Workbook
Name Consequence: Lookup!$B$2:$B$6
Name Controls_Adequate: Lookup!$D$2:$D$3
Name Hazard: 'Hazard Review & Checklist'!$B$5:$B$32
Name Hazard_List: Lookup!$F$2:$F$21
Name kit_contents: 'Example- First aid '!#REF!
Name Likelihood: Lookup!$A$2:$A$7
Name Psychosocial_Risks: [1]Criteria!$B$5:$F$5
Name RA_Cons: Criteria!$B$5:$F$5
Name RA_Likelihood: Criteria!$A$6:$A$10
Name remote: 'Example- First aid '!#REF!
Name Risk_Level: Lookup!$C$2:$C$5
Name RiskLevel: Lookup!$L$1:$N$25
Name Specific_Hazards_or_Concerns: [2]Lookups!$AG$2:$AG$63
Name Status: Criteria!$A$28:$A$30

Sheet Risk assessment template
C1: HSW risk assessment template v2 24/7/2025
C2: Step 1 Establish the context
C3: School/ Workplace: | E3: Specific area/ space: | I3: Risk assessment number
C4: Situation/ Activity being assessed: | E4: Scope:
B5: Step 2 Identify the hazards | C5: Step 2 Identify the hazards | E5: Step 3 Assess the inherent risk level (i.e. with no controls) | H5: Step 4 Control the risk | I5: Step 5 Assess the current (residual) risk level (with existing controls) | L5: Step 6 Evaluate the risk (accept or take further action to get risk to an acceptable level)
A6: # | B6: Hazard Group | C6: Describe the Hazard | D6: Describe risk that may arise (cause and outcome) | E6: Consequence | F6: Likelihood | G6: Risk Level | H6: What will be done to eliminate or minimise the risk? | I6: Consequence | J6: Likelihood | K6: Risk Level | L6: Has the risk been controlled as far as reasonably practicable? Y/N | M6: Can the risk rating be improved by adding new controls? Y/N | N6: What additional controls or control clarification is required? | O6: Due date | P6: Are new controls adequate to change the risk rating? Y/N. If Y redo the risk ranking . | Q6: Consequence | R6: Likelihood | S6: Risk Rating | T6: Risk Owner
G7: =VLOOKUP(E7&F7,Lookup!$A$2:$B$26,2,FALSE) -> #N/A | K7: =VLOOKUP(I7&J7,Lookup!$A$2:$B$26,2,FALSE) -> #N/A
G8: =VLOOKUP(E8&F8,Lookup!$A$2:$B$26,2,FALSE) -> #N/A | K8: =VLOOKUP(I8&J8,Lookup!$A$2:$B$26,2,FALSE) -> #N/A
G9: =VLOOKUP(E9&F9,Lookup!$A$2:$B$26,2,FALSE) -> #N/A | K9: =VLOOKUP(I9&J9,Lookup!$A$2:$B$26,2,FALSE) -> #N/A
G10: =VLOOKUP(E10&F10,Lookup!$A$2:$B$26,2,FALSE) -> #N/A | K10: =VLOOKUP(I10&J10,Lookup!$A$2:$B$26,2,FALSE) -> #N/A
G11: =VLOOKUP(E11&F11,Lookup!$A$2:$B$26,2,FALSE) -> #N/A | K11: =VLOOKUP(I11&J11,Lookup!$A$2:$B$26,2,FALSE) -> #N/A
G12: =VLOOKUP(E12&F12,Lookup!$A$2:$B$26,2,FALSE) -> #N/A | K12: =VLOOKUP(I12&J12,Lookup!$A$2:$B$26,2,FALSE) -> #N/A
G13: =VLOOKUP(E13&F13,Lookup!$A$2:$B$26,2,FALSE) -> #N/A | K13: =VLOOKUP(I13&J13,Lookup!$A$2:$B$26,2,FALSE) -> #N/A
G14: =VLOOKUP(E14&F14,Lookup!$A$2:$B$26,2,FALSE) -> #N/A | K14: =VLOOKUP(I14&J14,Lookup!$A$2:$B$26,2,FALSE) -> #N/A
G15: =VLOOKUP(E15&F15,Lookup!$A$2:$B$26,2,FALSE) -> #N/A | K15: =VLOOKUP(I15&J15,Lookup!$A$2:$B$26,2,FALSE) -> #N/A
G16: =VLOOKUP(E16&F16,Lookup!$A$2:$B$26,2,FALSE) -> #N/A | K16: =VLOOKUP(I16&J16,Lookup!$A$2:$B$26,2,FALSE) -> #N/A
C18: Risk Assessment Team (who participated and who was consulted) | E18: Date assessed: | H18: Risk Approver
C19: Name | D19: Position title | H19: Name:
H20: Position:
H21: Signature:
H22: Date:
C27: Step 7: Monitor and review
C28: Date of review | D28: Reviewer title | E28: Are controls effective? | H28: Additional actions/controls proposed/added

Sheet Criteria
A4: MODIFIED - Likelihood starts at "Rare" | B4: Consequence
A5: Likelihood | B5: Insignificant | C5: Minor | D5: Moderate | E5: Major | F5: Critical | L5: Hazard Categories:
A6: Rare | B6: Low | C6: Low | D6: Low | E6: Low | F6: Medium
A7: Unlikely | B7: Low | C7: Low | D7: Medium | E7: Medium | F7: High | L7: Biological (e.g. hygiene, disease, infection)
A8: Possible | B8: Low | C8: Medium | D8: Medium | E8: High | F8: High | L8: Blood/bodily fluid
A9: Likely | B9: Low | C9: Medium | D9: High | E9: High | F9: Extreme | L9: Virus/disease
A10: Almost Certain | B10: Medium | C10: Medium | D10: High | E10: Extreme | F10: Extreme | L10: Food handling
A12: ORIGINAL -> Likelihood starts at "Almost Certain" | B12: Consequence
A13: Likelihood | B13: Insignificant | C13: Minor | D13: Moderate | E13: Major | F13: Critical
A14: Almost Certain | B14: Medium | C14: Medium | D14: High | E14: Extreme | F14: Extreme
A15: Likely | B15: Low | C15: Medium | D15: High | E15: High | F15: Extreme
A16: Possible | B16: Low | C16: Medium | D16: Medium | E16: High | F16: High
A17: Unlikely | B17: Low | C17: Low | D17: Medium | E17: Medium | F17: High
A18: Rare | B18: Low | C18: Low | D18: Low | E18: Low | F18: Medium
L21: Chemicals (note: refer to the label and safety data sheet (SDS) for the classification and management of all chemicals)
A22: Extreme: | B22: Notify Workplace Manager and/or Management OHS Nominee immediately. Corrective actions should be taken immediately. | M22: Hazardous chemical (refer to a completed hazardous chemical risk assessment)
A23: High: | B23: Notify Workplace Manager and/or Management OHS Nominee immediately. Corrective actions should be taken within 48 hours of notification
A24: Medium: | B24: Notify Nominated employee, HSR / OHS Committee. Nominated employee, OHS Representative / OHS Committee is to follow up that corrective action is taken within 7 days.
A25: Low: | B25: Notify Nominated employee, HSR / OHS Committee. Nominated employee, HSR / OHS Committee is to follow up that corrective action is taken within a reasonable time.
A27: Have Controls Been Implemented | C27: YesNo | L27: Critical incidents:
A28: Yes | C28: Yes | L28: Lockdown
A29: Partially | C29: No | L29: Disruption
A30: No | L30: Evacuation
L33: Energy systems – incident/issues involving:
L34: Electricity (incl. mains and solar)
L35: LPG gas
L36: Gas/pressurised containers
L37: Environment
L38: Sun exposure | N38: Water (creek, river, beach, dam) | P38: Sound/noise
L39: Animals/insects | N39: Storms/weather | P39: Temperature (heat, cold)
L40: Facilities/built environment
L41: Buildings and fixtures | N41: Driveway/paths | P41: Workshops/work rooms
L42: Playground equipment | N42: Furniture | P42: Swimming pool
L43: Machinery, plant and equipment
L44: Machinery (fixed plant) | M44: Machinery (portable) | O44: Hand tools | Q44: Vehicles/trailers
L45: Manual tasks/ergonomics
L46: Manual tasks (repetitive, heavy) | N46: Working at heights | P46: Restricted space
L47: People
L48: Students | N48: Staff | P48: Parents/others
L49: Physical | N49: Psychosocial (stress related)
H61: Hierarchy of controls | I61: Most effective
H62: Elimination: remove the hazard completely from the workplace or activity. | I62: (High level)
H63: Substitution: replace a hazard with a less dangerous one.
H64: Redesign: changing a machine or work process to make it safer.
H65: Isolation: separate people from the source of the hazard.
H66: Administration: putting rules, signage or training in place to make a workplace safer. | I66: Least effective
H67: Personal protective equipment (PPE): protective clothing and equipment. | I67: (Low level)

Sheet Instructions
A1: HSW risk assessment template
A2: Instructions sheet
A17: Steps to complete a risk assessment using this template
A18: Step | B18: Column | C18: Instruction/step required | D18: Guidance/example (see example tab for full example)
A19: Step 1 | B19: Establish the Context Row 3 | C19: Enter the name/location of the school/workplace and the particular area/place that applies (e.g. science laboratory) | D19: e.g. ABC State School Wavell Heights Place: Teachers staff room and classroom 123
B20: Row 4 | C20: Describe the situation/activity being assessed and the scope of the risk assessment | D20: Situation: Risks arising from teacher Jo Smith having to use a leg scooter due to foot injury. Medical advice is that the individual is able to return to work using the scooter. They have no available leave remaining so do not wish to take leave. Scope: only applies to areas listed above, only required for next 6 weeks, scooter must be used at all times
A21: Step 2 Step 2a | B21: Identify the Hazards Col C | C21: Describe each hazard in a separate row (the situation, thing or activity that can cause harm) | D21: For an activity or task - break it into steps and consider the hazards for each step Example: Incline level of ramp is steep Small step at entry to classroom Room is very crowded and full access to all areas may not be possible
A22: Step 2b | B22: Col D | C22: Describe the risk that may arise from each hazard in terms of the cause and the effect (consequence outcome) that may arise | D22: Example: Access up ramp may not be possible due to incline or cause further injury strain Step could be a trip hazard for scooter cluttered room causes impact obstacles and teaching outcomes may be compromised
A23: Step 3 | B23: Assess the Inherent risk | C23: The inherent risk is the risk as if there were no controls in place at all
B24: Col E - consequence | C24: Use the pull down menu to choose the maximum harm consequence that could reasonably occur (not just the worst outcome) as if there were no controls in place | D24: Note: the risk matrix tab explains the 5 consequence levels For the example you might choose - moderate
B25: Col F - likelihood | C25: Use the pull down menu to choose the likelihood from the risk matrix of the chosen consequence occurring as if there were no controls in place | D25: Note: the risk matrix tab explains the 5 likelihood levels e.g. for example - likely
B26: Col G- Inherent risk level | C26: This will automatically populate once the consequence and likelihood are entered | D26: Moderate and likely give a High level of risk for example above
A27: Step 4 | B27: Consider the controls Col H - controlling the risk | C27: Enter all the known/proposed controls for each of the identified hazards | D27: • You will find information on the hierarchy of controls, types of controls and where to find control options in the HSW Risk assessment process guideline and lists of controls/control source documents on the risk register Oneportal page (new link) • Include multiple controls wherever possible Example: undertake a test run of journey while supervised/supported Provide a small ramp over step
A28: Step 5 | B28: Assess the current risk | C28: The current risk is the assessed risk with current controls in place
B29: Col I -current risk consequence | C29: Use drop downs to choose the harm consequence that could reasonably occur with the chosen controls in place | D29: Note: even with controls in place sometimes it is hard to lower the consequence - in example above it might remain at moderate (maybe possible to decrease to minor)
B30: Col J -current risk likelihood | C30: Use drop downs to choose the likelihood of the chosen consequence occurring with the chosen controls in place | D30: • controls can certainly lower the likelihood In example above consequence may reduce to say possible or unlikely
B31: Col K - current risk level | C31: This will automatically populate once the consequence and likelihood are entered | D31: A moderate, unlikely gives a medium level of risk
A32: Step 6 | B32: Evaluate the risk
A33: Step 6a | B33: Col L - Risk controlled? | C33: Has an acceptable level been achieved? (i.e. risk is as low as reasonably practicable) Can other controls can be reasonable added to decrease the risk level? Insert Y or N | D33: • Ensure elimination is considered and risks are minimised as far as reasonably practicable Example: Comments made in next column
B34: Col N - Additional controls? | C34: • You must follow/implement the actions listed against each risk level in the risk matrix and risk asessment guideline • Add any additional actions, controls or control modifications needed to get risk to an acceptable level where risk has been minimised as low as reasonably practical • this may include interim measures while long term controls are being developed • comments can be made on why or why not certain actions were taken | D34: • ensure these are clear and effective. Example: Classroom 123 is closer to entry points and other rooms are not considered to be viable options Comment also made that eliminating the ramp slope and tight corner hazard by redesigning the ramp completely was not considered reasonable or necessary due to the lower level of risk and short term nature of the risk
B35: Col O - date | C35: Add the date actions to be completed by | D35: If an additional control or action is needed and the date for completion and the risk owner in next column
B36: Col T - Action Owner | C36: Add the action owner, if unknown at this point add the person responsible for ensuring the action will be allocated
A37: Step 6b | B37: Row 21-26 Assessment team details | C37: List the details of the risk assessors including people who were consulted
B38: Row 20-23 Approver details | C38: Add the risk approver details - as per procedure/guideline/fact sheet | D38: Generally this is the supervisor or a higher level if the residual risk is high
A39: Step 7 | B39: Monitor the risk
B40: Row 30 onwards | C40: Add the monitor and review details | D40: Review at a period commensurate with risk and situation Example: reviewed by approver after 2 weeks. Note that support person was not always available so need for a roster was identified as an action

Sheet Risk Matrix
B1: Risk Ranking Matrix
C3: Insignificant | D3: Minor | E3: Moderate | F3: Major | G3: Critical | I3: Consequence | J3: Description of consequence
B4: Almost Certain | C4: Medium | D4: Medium | E4: High | F4: Extreme | G4: Extreme | I4: 1. Insignificant | J4: No treatment required
B5: Likely | C5: Low | D5: Medium | E5: High | F5: High | G5: Extreme | I5: 2. Minor | J5: Minor injury requiring first aid treatment (e.g. minor cuts, bruises, bumps)
B6: Possible | C6: Low | D6: Medium | E6: Medium | F6: High | G6: High | I6: 3. Moderate | J6: Injury requiring medical treatment or lost time
B7: Unlikely | C7: Low | D7: Low | E7: Medium | F7: Medium | G7: High | I7: 4. Major | J7: Serious injury (injuries) requiring specialist medical treatment or hospitalisation
B8: Rare | C8: Low | D8: Low | E8: Low | F8: Low | G8: Medium | I8: 5. Critical | J8: Loss of life, permanent disability or multiple serious injuries
J9: NOTE: for psychosocial hazards consideration will need to be given to the varying range of consequences (and their severity) such as exhaustion, anxiety, stress levels, post traumatic stress, depression and suicide along with cardiovascular disorders
I10: Likelihood | J10: Description of likelihood
I11: 1. Rare | J11: Will only occur in exceptional circumstances
I12: 2. Unlikely | J12: Not likely to occur within the foreseeable future, or within the project lifecycle
I13: 3. Possible | J13: May occur within the foreseeable future, or within the project lifecycle
I14: 4. Likely | J14: Likely to occur within the foreseeable future, or within the project lifecycle
I15: 5. Almost certain | J15: Almost certain to occur within the foreseeable future or within the project lifecycle
I17: Assessed Risk Level | J17: Actions
I18: Low | J18: Undertake the activity with the existing controls in place
I19: Medium | J19: Verify controls are effective, consider if additional controls may be needed particularly if the inherent risk is extreme or high
I20: High | J20: Seek alternative options and additional controls. Additional controls to reduce the risk must be in place before the activity is undertaken unless it is not practical or possible to do so. Only proceed at this risk level if higher authority signoff is obtained.
I21: Extreme | J21: Do not undertake the activity or situation. Alternatives to doing the activity must be fully considered. Subject Matter Experts should be consulted and additional higher level control measures will need to be implemented to lower the risk level to ensure safety along with a higher level of signoff.
J22: Note: For Curriculum activities follow the requirements in the CARA flowchart
J23: https://ppr.qed.qld.gov.au/attachment/managing-risks-in-school-curriculum-activities-flowchart.pdf
J24: Note: For plant and equipment risk assessments follow the action requirements in each PERA
J25: https://education.qld.gov.au/initiatives-and-strategies/health-and-wellbeing/workplaces/equipment-machinery-resources

Sheet Example- First aid 
C1: HSW risk assessment template - example first aid risk assessment for a school | I1: Reference: First aid in the workplace code of practice
C2: Step 1 Establish the context
C3: School/ Workplace: | D3: Example State College (P-12) | E3: Specific area/ space: | F3: Whole of School, extra-curricular activities, authorised after hours programs and out of hours activities | I3: Risk assessment number | K3: example
C4: Situation/ Activity being assessed: | D4: First Aid | E4: Scope: | F4: This First Aid Risk Assessment is used to assess risks and describe controls to determine first aid resourcing at Example State College by considering the size, location and nature of workplace risks at the school. Information in this assessment will inform the first aid planning for the College.
B5: Step 2 Identify the hazards | C5: Step 2 identify the hazards | E5: Step 3 - Assess the inherent risk level (i.e. with no controls) | H5: Step 4 Control the risk | I5: Step 5 Assess the current (residual) risk level (with existing controls) | L5: Step 6 Evaluate the risk (accept or take further action to get risk to an acceptable level)
A6: # | B6: Hazard Group | C6: Describe the Hazard | D6: Describe risk that may arise (cause and outcome) | E6: Consequence | F6: Likelihood | G6: Risk Level | H6: What will be done to eliminate or minimise the risk? | I6: Consequence | J6: Likelihood | K6: Risk Level | L6: Has the risk been controlled as far as reasonably practicable? Y/N | M6: Can the risk rating be improved by adding new controls? Y/N | N6: What additional controls or control clarification is required? | O6: Due date | P6: Are new controls adequate to change the risk rating? Y/N. If Y redo the risk ranking . | Q6: Consequence | R6: Likelihood | S6: Risk Rating | T6: Risk Owner
C7: Where will first aid kits (and emergency equipment if required e.g. AED) be located? | D7: A workplace may require first aid to be available in more than one location if: • work is being carried out a long distance from emergency services • workers are dispersed over a wide area • access to a part of the workplace is difficult, or • the workplace has more than one floor level
C8: School is very large, spread over high-rise and out buildings and has a junior/senior split campus Number of buildings = x Number of floors = x | D8: Lack of timely access to first aid response due to school size and distribution of buildings Risk of severe injury/illness due to treatment delay | E8: Critical | F8: Likely | G8: =VLOOKUP(E8&F8,[3]Lookup!$A$2:$B$26,2,FALSE) -> Extreme | H8: Undertake a thorough First Aid Risk Assessment to create a first aid plan. Implement all control measures in plan and assessment as soon as possible. Monitor the implementation of recommendations to ensure they are working and have not introduced any new hazards. Develop a schedule of required first aid actions (frequency, timing, responsibility e.g. kit maintenance, information sharing, training) Annual review of the First Aid Risk Assessment and amend whenever a new hazard or risk is identified, or things in the workplace change. | I8: Critical | J8: Rare | K8: =VLOOKUP(I8&J8,[3]Lookup!$A$2:$B$26,2,FALSE) -> Medium | L8: Y | N8: Develop a protocol and practice a response to get a person to emergency care e.g. ambulance access / helicopter transfer. A first aid room is required to manage students who are unwell and require a location to rest and wait for pickup by parents (first aid room) Develop map showing location of first aid kits to support kit maintenance and staff information sharing | O8: dd/mm/yy | T8: dd/mm/yy
C9: Delayed access to emergency treatment | D9: Risk of severe injury/illness due to treatment delay - Accessing emergency treatment takes too long:  hospital and ambulance 45 minutes away  GP access 25 minutes away. School is isolated from ambulance by creek during flood events | E9: Critical | F9: Likely | G9: Extreme | H9: Staff and students instructed on first aid and emergency protocols, location of kits and first aid room at start of year/on appointment. Parents provided information about advising of student medical conditions/medication in enrolment handbook Medical centre requires school to call first if attending clinic for specific instructions Staff have anaphylaxis, asthma, diabetes response training Staff/parent SMS communication to advise of flooding/closure. SES reviews flood access with school annually Check expiry of emergency medications as part of kit maintenance schedule | I9: Major | J9: Possible | K9: =VLOOKUP(I9&J9,[3]Lookup!$A$2:$B$26,2,FALSE) -> High | L9: Y
C10: How many first aiders are needed? | D10: The First aid in the workplace Code of Practice 2021 describes following ratios: • low risk workplaces (where injures are only minor) one first aider for every 50 people who may require first aid. • high risk workplaces (where injuries may be serious) one first aider for every 25 people who may require first aid. • where serious injuries are foreseeable, the Code of Practice recommends one first aider per 25 people who may require first aid. • remote high-risk workplaces (where access to emergency medical care is and injuries may be serious) one first aider for every 10 people who may require first aid. “Remote” is generally defined as an area where access to medical assistance is delayed by time and distance.
C11: Demand on first aid provision - insufficient first aid kits and contents, insufficient trained first aiders | D11: Risk of severe injury/illness due to treatment delay | E11: Critical | F11: Likely | G11: Extreme | H11: Using the First Aid Code of Practice ratios to ensure there are enough trained first aiders in the workplace for the type of work carried out: Low risk workplace (1780 students, 119 staff, 41 others = 1940 persons)/50 = minimum 39 Minimum ratio of trained first aiders in high risk ITD and Ag will be 1:25 Minimum ratio of trained first aiders for remote Yr 10 camp and Yr 11 ski trip will be 1:10 Cleaners, ground staff, technicians and staff who attend the site before 6 am or after 7pm, on weekends or holidays have work alone risks. Approval from Principal is required to work alone. These staff require first aid training. | I11: Major | J11: Possible | K11: =VLOOKUP(I11&J11,[3]Lookup!$A$2:$B$26,2,FALSE) -> High | N11: Staff require a risk assessment approved by the principal to work at the site on weekends and on holidays, and outside standards hours of 6am to 7pm. Schedule of training maintained to ensure refresher training every 3yrs for first aiders and annually for CPR A schedule of kit maintenance will be maintained with a role assigned responsibility to check and restock kits. At a minimum this will occur once per term, or sooner after a significant incident.
C12: Understanding of hazards and nature of injuries/illnesses that may occur at site is not current | D12: First aid equipment and resources are not adequate for the hazards and types of injury / illness that might occur The particular needs of people with a disability are not considered | E12: Major | F12: Likely | G12: =VLOOKUP(E12&F12,[3]Lookup!$A$2:$B$26,2,FALSE) -> High | H12: Review and assess hazardous locations and activities (see below) Injury/illness review for past 12 months shows 428 Class 4, 63 Class 3, 11 class 2 (lacerations, eye injury, broken arm, grazes and bruising from slips/trips, manual handling injuries) and no class 1 incidents. 3 near misses were reported, one of which could potentially have resulted in finger amputation (band saw). Other records show 1184 student first aid incidents including 16 seizures, 7 concussions and 3 self harm events. Most were insect bites, bumps, scratches and bruises. 3 staff medical events were recorded Reasonable adjust plans for staff, medical, behaviour and inclusion plans for students | I12: Moderate | J12: Possible | K12: =VLOOKUP(I12&J12,[3]Lookup!$A$2:$B$26,2,FALSE) -> Medium | N12: Review and assess injury/illness at location quarterly using MyHR WHS reports to ensure continued relevance of first aid resourcing Ensure all staff can use MyHR WHS to report injury/illnesses and can use the first aid module to record student first aid (taking into account the needs of cultural and linguistically diverse staff) Review of first aid requirements annually (e.g. risk assessment review, ASA)
C13: Hazardous Locations Foreseeable first aid experience | D13: To support the school in having the correct first aid for known hazards, the following list is provided. If these are not applicable to your location, delete the row. If they are, assess the risk and implement the controls appropriate to your workplace - controls provided in grey are examples only.
C14: Hazard location: ITD / equipment machinery | D14: Risk of laceration, fractures, amputation, burns, electric shock, electrocution, crushing, eye injury, dust inhalation, welding fumes | E14: Major | F14: Possible | G14: =VLOOKUP(E14&F14,[3]Lookup!$A$2:$B$26,2,FALSE) -> High | H14: Basic first aid kit contents (e.g. Appendix E First aid Code of Practice) PLUS dressings/bandages and extra gauze for large laceration. Good supply of dressings for minor cuts. Running water or saline for flushing eyes, burns Trained first aid staff in each workshop (ratio 1:25) | I14: Moderate | J14: Possible | K14: =VLOOKUP(I14&J14,[3]Lookup!$A$2:$B$26,2,FALSE) -> Medium | L14: Y | N14: Review activities at end of year to ensure activities do not introduce additional first aid hazards ITD staff to hold first aid and CPR qualifications at ratio of 1:25
C15: Hazard location: Hospitality | D15: Burns, cuts, slips, food poisoning, chemical exposure (cleaning products) | E15: Major | F15: Possible | G15: =VLOOKUP(E15&F15,[3]Lookup!$A$2:$B$26,2,FALSE) -> High | H15: Basic first aid kit contents (e.g. Appendix E First aid Code of Practice) PLUS dressings/bandages for large laceration. Good supply of dressings for minor cuts. Running water for flushing eyes, burns, ice packs for skin burns Burn treatment instructions on card in kit/on wall near water supply | I15: Major | J15: Possible | K15: =VLOOKUP(I15&J15,[3]Lookup!$A$2:$B$26,2,FALSE) -> High | L15: Y | N15: Review activities at end of year to ensure activities do not introduce additional first aid hazards
C16: Hazard location: Swimming pools (Aquatics/Sports) | D16: Drowning, head injuries, slips, muscle strains, hypothermia | E16: Critical | F16: Possible | G16: =VLOOKUP(E16&F16,[3]Lookup!$A$2:$B$26,2,FALSE) -> High | H16: Basic first aid kit contents (e.g. Appendix E First aid Code of Practice) PLUS dressings/bandages for large laceration. Good supply of dressings for minor cuts, shock blanket Trained first aid staff with CPR skills | I16: Moderate | J16: Possible | K16: =VLOOKUP(I16&J16,[3]Lookup!$A$2:$B$26,2,FALSE) -> Medium | L16: Y | N16: Review swimming facilities for availability of defibrillator prior to booking
C17: Hazard location: Agriculture (Farms/Workshops) | D17: Risk of laceration, fractures, amputation, burns, electric shock, electrocution, eye injury, dust inhalation, welding fumes, animal bites, stings, chemical poisoning (pesticides), crush injuries, infections, snake bite, sunburn motor vehicle related trauma, Q fever | E17: Critical | F17: Possible | G17: =VLOOKUP(E17&F17,[3]Lookup!$A$2:$B$26,2,FALSE) -> High | H17: Basic first aid kit PLUS dressings/bandages for large laceration PLUS Long conforming bandages for limb immobilization e.g. snake bite. Good supply of dressings for minor cuts. Running water or saline for flushing eyes/ burns/cuts List of administration/first aid officer contacts in kit. Induction on first aid protocols, working alone. Ability for staff to communicate directly with Admin in emergencies (e.g. mobile phone) | I17: Major | J17: Possible | K17: =VLOOKUP(I17&J17,[3]Lookup!$A$2:$B$26,2,FALSE) -> High | L17: Y | N17: Review activities at end of year to ensure activities, equipment or livestock do not introduce additional first aid hazards Provide awareness information to staff about Q fever and encourage staff to check their immunity status Staff to hold first aid and CPR qualifications at ratio of 1:25
C18: Hazard location: Sport/PE | D18: Risk of laceration, fractures, eye injury, dust inhalation, animal bites, stings, crush injuries, infections, snake bite, sunburn, muscular sprain/strain, concussion, dehydration, heatstroke, asthma attack & seizure, collision, bruising | E18: Major | F18: Possible | G18: =VLOOKUP(E18&F18,[3]Lookup!$A$2:$B$26,2,FALSE) -> High | H18: Basic first aid kit PLUS dressings/bandages for large lacerations, extra triangular bandage and long bandage for knee/ankle injuries List of administration/first aid officer contacts in kit. Individual medical action plans Access to emergency medication (EpiPens, inhalers, insulin) All PE Staff first aid trained to respond to medical emergencies. include route for emergency vehicles onto oval in staff induction | I18: Major | J18: Possible | K18: =VLOOKUP(I18&J18,[3]Lookup!$A$2:$B$26,2,FALSE) -> High | L18: Y | N18: PE staff to hold first aid and CPR qualifications at ratio of 1:25 College to consider Automated External Defibrillators (AED).
C19: Hazard: Biological (Infectious materials) | D19: Infection, allergic reactions, Q fever, poisoning from plant or animal toxins, contaminated waste from applying first aid | E19: Major | F19: Possible | G19: =VLOOKUP(E19&F19,[3]Lookup!$A$2:$B$26,2,FALSE) -> High | H19: Basic first aid kit PLUS Long conforming bandages for limb immobilization e.g. spider/snake bite, octopus/cone fish sting. Emergency medication (asthma), water/saline for flushing eyes. Conduct additional risk assessment for Q fever to identify required controls e.g. respiratory PPE etc. for non-immune persons Single use bags to enclose waste materials | I19: Major | J19: Possible | K19: =VLOOKUP(I19&J19,[3]Lookup!$A$2:$B$26,2,FALSE) -> High | L19: N | N19: Staff to evaluate potential biological risk first aid implications during planning to determine what additional measures as may be required e.g. jellyfish stings. Ensure first aiders receive instruction in their training/induction on proper hygiene practices, sharps and waste disposal, cleaning surfaces and reusable equipment, managing spills and soiled laundry, PPE use
C20: Hazard: Hazardous Chemical | D20: Respiratory illnesses e.g. an asthma emergency, inhalation of corrosive or toxic fumes Skin/eye irritation or damage Chemical burns, contact dermatitis, sensitivity Potential ingestion | E20: Major | F20: Likely | G20: =VLOOKUP(E20&F20,[3]Lookup!$A$2:$B$26,2,FALSE) -> High | H20: Possible risk of daily exposure to hazardous chemicals for cleaners, science, ITD, agriculture, grounds and facilities, art staff. Natural ventilation is provided. ITD and science have exhaust ventilation. PPE e.g. gloves and aprons used by staff/students. Eyewash, access to running water for chemical burn/contact, asthma medications available. Staff induction to include operation of eye wash and emergency showers | I20: Moderate | J20: Possible | K20: =VLOOKUP(I20&J20,[3]Lookup!$A$2:$B$26,2,FALSE) -> Medium | L20: Y | N20: Safety data sheets required for all chemicals Labels required on all chemicals water for several minutes. Eye wash equipment required in Science labs, prep room, ITD workshop and Grounds shed. Weekly testing schedule required
C21: Hazard: Medical Conditions | D21: Emergency response for conditions like asthma, anaphylaxis, diabetes, epilepsy; heart conditions Response for unknown medical event | E21: Major | F21: Possible | G21: =VLOOKUP(E21&F21,[3]Lookup!$A$2:$B$26,2,FALSE) -> High | H21: Basic first aid kit contents Individual medical action plans, access to emergency medication (EpiPens, inhalers, insulin) Staff aware of medical action plans and required responses and can action the required response Staff aware/trained for administration of medication Staff inducted on first aid and ambulance protocols. Automated External Defibrillators (AED). | I21: Major | J21: Possible | K21: =VLOOKUP(I21&J21,[3]Lookup!$A$2:$B$26,2,FALSE) -> High | L21: Y | N21: Review individual plans quarterly to ensure current response is appropriate. Check relevant staff have completed mandatory CPR, first aid, anaphylaxis, asthma, diabetes training HSW Committee to consider need for defribrillator on site
C22: Hazard: Excursions and camps | D22: Risk of laceration, fractures, eye injury, dust inhalation, animal bites, stings, crush injuries, infections, snake bite, sunburn, muscular sprain/strain, concussion, dehydration, heatstroke, asthma attack & seizure, collision, bruising | E22: Critical | F22: Possible | G22: =VLOOKUP(E22&F22,[3]Lookup!$A$2:$B$26,2,FALSE) -> High | H22: Remote area first aid kit. Snakebite Kit that includes treatment information Staff emergency contact details/parent contact details Communication devices that will function at location. | I22: Major | J22: Possible | K22: =VLOOKUP(I22&J22,[3]Lookup!$A$2:$B$26,2,FALSE) -> High | L22: N | N22: Staff to evaluate first aid implications during planning to determine what additional measures as may be required.
C23: Hazard: playgrounds, loose/nature play areas, grounds | D23: Risk of slips, trips, falls, sunburn, dehydration, laceration, fractures, eye injury, dust inhalation, animal bites, stings, crush injuries, infections, snake bite, muscular sprain/strain, concussion, heatstroke, asthma attack, seizure, collision, bruising, medical condition, puncture wounds, facial and dental injuries | E23: Major | F23: Possible | G23: =VLOOKUP(E23&F23,[3]Lookup!$A$2:$B$26,2,FALSE) -> High | H23: Basic first aid kit PLUS dressings/bandages for large laceration PLUS Long conforming bandages for limb immobilization e.g. snake bite. Good supply of dressings for minor cuts. Running water or saline for flushing eyes/ burns/cuts Induction on first aid protocols, working alone. | I23: Major | J23: Possible | K23: =VLOOKUP(I23&J23,[3]Lookup!$A$2:$B$26,2,FALSE) -> High | L23: N | N23: Staff to evaluate first aid implications in relation to the specific equipment and activities taking place to determine what additional measures as may be required.
C24: Hazard: work at heights/ uneven or slippery surfaces | D24: Risk of slips, trips and falls can cause fractures, bruises, lacerations, dislocations, concussion, traumatic injury. | E24: Major | F24: Possible | G24: =VLOOKUP(E24&F24,[3]Lookup!$A$2:$B$26,2,FALSE) -> High | H24: Basic first aid kit PLUS dressings/bandages for large laceration Good supply of dressings for minor cuts. Ice for strains/sprains Induction on first aid protocols, working alone Department prohibition for staff, students and volunteers access roofs. | I24: Major | J24: Possible | K24: =VLOOKUP(I24&J24,[3]Lookup!$A$2:$B$26,2,FALSE) -> High | L24: Y
C25: Hazards: driving | D25: Risk of injury or trauma | E25: Major | F25: Possible | G25: =VLOOKUP(E25&F25,[3]Lookup!$A$2:$B$26,2,FALSE) -> High | H25: Portable first aid kit taken/ provided for activities involving transportation. Basic first aid kit PLUS dressings/bandages for large laceration Space blanket for shock | I25: Major | J25: Possible | K25: =VLOOKUP(I25&J25,[3]Lookup!$A$2:$B$26,2,FALSE) -> High | L25: Y | N25: Risk assessment for driving activities required as per the department's driver safety guide
C26: Hazard: behaviours | D26: Risk of physical or psychological injury/illness | E26: Major | F26: Possible | G26: =VLOOKUP(E26&F26,[3]Lookup!$A$2:$B$26,2,FALSE) -> High | H26: basic first aid kit OVA procedure and Employee Assistance Program information MyHR WHS incident recording Individual behaviour plans | I26: Moderate | J26: Possible | K26: =VLOOKUP(I26&J26,[3]Lookup!$A$2:$B$26,2,FALSE) -> Medium | L26: Y | N26: School to monitor impacts via HSW Committee each term. School leaders to complete psychological first aid course. Staff encouraged to complete course
C27: Hazard: after hours care, community hire of facilities | D27: Risk of slips, trips, falls, sunburn, dehydration, laceration, fractures, eye injury, dust inhalation, animal bites, stings, infections, muscular sprain/strain, concussion, heatstroke, asthma attack & seizure, collision, bruising, medical condition | E27: Major | F27: Likely | G27: =VLOOKUP(E27&F27,[3]Lookup!$A$2:$B$26,2,FALSE) -> High | H27: Basic first aid kit PLUS dressings/bandages for large laceration Good supply of dressings for minor cuts. Running water or saline for flushing eyes/ burns/cuts Signage for first aid kit locations First aid protocols, recording of first aid/use of kit contents information included in hire agreement | I27: Moderate | J27: Possible | K27: =VLOOKUP(I27&J27,[3]Lookup!$A$2:$B$26,2,FALSE) -> Medium | L27: Y | N27: Staff to evaluate first aid implications with third parties to determine what additional measures as may be required. Consider availability of AED
C28: Risk Assessment Team (who participated and who was consulted) | E28: Date assessed:
C29: Name | D29: Position title | H29: Name:
H30: Position:
H31: Signature:
H32: Date:
C37: Step 7: Monitor and review
C38: Date of review | D38: Reviewer title | E38: Are controls effective? | H38: Additional actions/controls proposed/added

Sheet Example- Playgrounds
C1: HSW risk assessment template v2 24/7/2025
C2: Step 1 Establish the context
C3: School/ Workplace: | D3: Example State School | E3: Specific area/ space: | F3: Example school play ground | I3: Risk assessment number
C4: Situation/ Activity being assessed: | D4: Inherent risk of identified playground equipment and use of playground equipment during play. | E4: Scope: | F4: All playgrounds and play practices offer a level of risk. There are various playgrounds in this school that have the potential to contribute to incidents resulting in injury. This assessment identifies safety aspects for play equipment on site to mitigate the risk of injury whilst allowing students to experience the benefits offord by the stimulus of play. For this example, all equipment is confirmed compliant with Australian Standards (AS4685 series) and soft fall meets AS4422 specifications. Specific hazards related to the equipment are identified along with common playground hazards. This assessment is dynamic and staff should be aware of the changing nature of the play taking place. They should support students to self-assess and manage risk as much as possible for themselves, but they should also be vigilant and take action if they think that risk of serious harm is becoming unacceptably likely. Items prohibited by the department's design standards are not installed. | N4: References: Design Standards for DoE facilities AS 4685 series AS4422 DoE Making playground equipment safe fact sheet DoE Playground checklist DoE Space net fact sheet
B5: Step 2 Identify the hazards | C5: Step 2 Identify the hazards | E5: Step 3 Assess the inherent risk level (i.e. with no controls) | H5: Step 4 Control the risk | I5: Step 5 Assess the current (residual) risk level (with existing controls) | L5: Step 6 Evaluate the risk (accept or take further action to get risk to an acceptable level)
A6: # | B6: Hazard Group | C6: Describe the Hazard | D6: Describe risk that may arise (cause and outcome) | E6: Consequence | F6: Likelihood | G6: Risk Level | H6: What will be done to eliminate or minimise the risk? | I6: Consequence | J6: Likelihood | K6: Risk Level | L6: Has the risk been controlled as far as reasonably practicable? Y/N | M6: Can the risk rating be improved by adding new controls? Y/N | N6: What additional controls or control clarification is required? | O6: Due date | P6: Are new controls adequate to change the risk rating? Y/N. If Y redo the risk ranking . | Q6: Consequence | R6: Likelihood | S6: Risk Rating | T6: Risk Owner
C7: Equipment type
C8: Non compliant procurement of equipment | D8: equipment and installation does not comply with Australian Standards incorrect siting of structures softfall/impact attenuating (rubber) surfaces not appropriate for fall risks impacts to landscaping and drainage injury financial loss equipment not appropriate for user cohort | E8: Major | F8: Likely | G8: =VLOOKUP(E8&F8,[4]Lookup!$A$2:$B$26,2,FALSE) -> High | H8: Department SOAs will be used for guidance for the design, delivery and installation of all-ability specialised playground services and playground surfacing. This includes any associated landscaping/drainage requirements as well as the refurbishment, removal and/or disposal of existing playgrounds and surfacing of existing structures for Queensland state schools and educational facilities All new equipment and refurbishments are procured only where it meets Australian Standard. Prior to installing new playgrounds the siting application form will be completed and reviewed by the Infrastructure Advisor and Senior Safety Advisor (Regional) Infrastructure Safety to ensure the equipment is placed appropriately. Equipment manufacturers/installers are licenced and insured. Appropriate selection of equipment for intended user group age and capability considered before purchase | I8: Minor | J8: Unlikely | K8: =VLOOKUP(I8&J8,[4]Lookup!$A$2:$B$26,2,FALSE) -> Low | N8: Inspection and maintenance requirements considered as part of ongoing costs (e.g. 3 yearly AS4422 testing of impact attenuating surfaces) Written approval from the Regional Facilities Manager will be obtained before requesting any quotes All records associated with procurement, comnmissioning, installation, inspections, maintenenace and decomissioning are retained for the life of the equipment Playground rules established prior to commissioning to ensure safe play
C9: Swings (belt (A), basket (B), bucket (cradle)(C), accessible swing seats (D), boat (E) swings): seat height above ground swing height moving objects range of motion improper use finger entrapment | D9: Fall from various heights dependent on user momentum resulting in injury Injury mounting and dismounting seat Collision with bystanders during motion Multiple users (exceed seat capacity) | E9: Major | F9: Likely | G9: =VLOOKUP(E9&F9,[4]Lookup!$A$2:$B$26,2,FALSE) -> High | H9: Plank swings are prohibited in deparment facilities Location/siting of equipment is an appropriate distance from other equipment and play zones Visual inspection of swings occurs before play commences No other play equipment or persons are permitted in the free space of the swing to avoid collisions Supervison during play Instructions provided to students on safe use Liberty/accessibility swings are fenced with a self closing gate fitted with a child proof lock and are signed on the gate with ' RESTRICTED AREA, USERS AND CARERS ONLY AS REQUIRED IN THIS AREA' | I9: Major | J9: Possible | K9: =VLOOKUP(I9&J9,[4]Lookup!$A$2:$B$26,2,FALSE) -> High | N9: Based on the risk assessment, the minimum number of adult supervisors for the swings is [insert number based on characteristics of play area and risk] Students are reminded regularly of playground rules. Loose Soft fall is inspected [insert frequency e.g. daily/weekly] and redistributed when needed to ensure high use areas have fill depth >300mm
C10: See saw: seat height above ground moving objects range of motion improper use | D10: Fall from height Uncontrolled dismount impact injuries crush injuries entrapment/crush at hingepoints and extremeties | E10: Major | F10: Possible | G10: =VLOOKUP(E10&F10,[4]Lookup!$A$2:$B$26,2,FALSE) -> High | H10: Location/siting of equipment is an appropriate distance from other equipment and play zones Supervison during play Instructions provided to students on safe use | I10: Major | J10: Possible | K10: =VLOOKUP(I10&J10,[4]Lookup!$A$2:$B$26,2,FALSE) -> High | N10: Students are reminded regularly of playground rules. Loose Soft fall is inspected daily and redistributed when needed to ensure high use areas have fill depth >300mm
C11: Rotating maypoles | D11: excessive spinning resulting in loss of grip (centifugal force) multiple users increase risk of injury dizziness and loss of balance fall at speed and height resulting in injury somooth surfaces pose slip hazard when wet | E11: Major | F11: Likely | G11: =VLOOKUP(E11&F11,[4]Lookup!$A$2:$B$26,2,FALSE) -> High | H11: Speed limited equipment that reduces rotational forces Asses capability and age appropriateness Supervise students to monitor and control rotational speed Softfall maintained to required depth/condition Students not playing on on equipment are to keep clear of the zone immediately around the the equipment | I11: Major | J11: Possible | K11: =VLOOKUP(I11&J11,[4]Lookup!$A$2:$B$26,2,FALSE) -> High | N11: Students are reminded regularly of playground rules. Loose Soft fall is inspected [nsert frequency e.g. daily] and redistributed when needed to ensure high use areas have fill depth >300mm/Impact attenuating surfaces are inspected every 3 years in line with AS4422 Based on the risk assessment, the minimum number of adult supervisors for the maypole is [insert number based on characteristics of play area and risk]
C12: Spinners | D12: excessive spinning resulting in loss of grip multiple users increase risk of injury smooth surfaces pose slip hazard when wet dizziness and loss of balance fall at speed resulting in injury entrapment under rotating carriage | E12: Major | F12: Likely | G12: =VLOOKUP(E12&F12,[4]Lookup!$A$2:$B$26,2,FALSE) -> High | H12: Speed limited equipment that reduces rotational forces Number of users limited to the manufacturers instructions Supervision number of users at any one time controlled Supervise students being spun to ensure they are not being spun too fast Impact attenuating surfaces are maintained and in good condition Spinners mounted in ground and are flush with softfall Rotational gaps are less than 3mm to eliminate entrapment points Students not playing on on equipment are to keep clear of the zone immediately around the the equipment | I12: Moderate | J12: Possible | K12: =VLOOKUP(I12&J12,[4]Lookup!$A$2:$B$26,2,FALSE) -> Medium | N12: Students are reminded regularly of playground rules. Impact attenuating surfaces are inspected every 3 years in line with AS4422 Based on the risk assessment, the minimum number of adult supervisors for the maypole is [insert number based on characteristics of play area and risk] Where smooth or slippery surfaces are of concern manufacturer will be contacted to provide advice/suitable products e.g. grip tape or
C13: Track ride (Slide and glide) height of fall relative to user height loss of grip speed of transit sudden stop at terminus body contact with launch platform soft fall not maintained | D13: Fall from height impact and injury with platform collision with other playground users mechanical failure of slide bearings slip or fall from platform (if present) slip or fall from smooth surfaces | E13: Major | F13: Possible | G13: High | H13: Age and skill appropriate access Supervision Softfall maintained to required depth/condition Re-enforce rules of no climbing on structure Monitor landing surface/platform for obstacles and loose materials Support children when required /Provide guidance Children self-assess abilities | I13: Major | J13: Possible | K13: High | N13: Students are reminded regularly of playground rules. Platforms are inspected regulalry during play for slip hazards e.g. bark chips Loose Soft fall is inspected [nsert frequency e.g. daily] and redistributed when needed to ensure high use areas have fill depth >300mm/Impact attenuating surfaces are inspected every 3 years in line with AS4422 Based on the risk assessment, the minimum number of adult supervisors for the maypole is [insert number based on characteristics of play area and risk] Where smooth or slippery surfaces are of concern manufacturer will be contacted to provide advice/suitable products e.g. grip tape Incident review: where metal platforms are identified as hazards, these may be replaced with plastic platforms with guidance from equipment manufacturer
C14: Slide | D14: Handrails and steps may be slippery when wet Friction burns Hot surface (contact burns - with plastic or metal or unitary surfaces) Slip trip or fall Head injury | E14: Moderate | F14: Likely | G14: High | H14: Students are to wear appropriate (long pants preferred) clothing and footwear One at a time down the slide No running up the slide Ensure that bottom of slide is kept free and softfall is in place Students are instructed on how to climb the ladder safely and correctly use the slide Where environmental conditions introduce a heat risk, the temperature of the slide is checked with 'hand test'/an infrared thermometer to reduce risk of heat burns | I14: Moderate | J14: Possible | K14: medium | N14: ISO Standard 13732-1:2006 Ergonomics of the thermal environment indicates thermal burns may occur on coated/uncoated metal surfaces at 51 degrees celcius and plastic at 60 degrees celcius where contact time is 1 minute.
C15: Monkey bars/modular monkey bars/ninja traverse, monkey hand grips mismatch between equipment and age/capability of user loss of grip number of users improper use (climbing on top) slip age appropriatness (grip strength, reach) soft fall not maintained | D15: fall from height impact injury challenging use collision with falling persons | E15: Major | F15: Likely | G15: High | H15: Supervision Softfall maintained to required depth (min 300 mm unless greater depth required by manufactere based on fall height) Re-enforce rules of climbing Monitor landing surface for obstacles Highlight permitted climb height boundary with paint/marker to act as visual reminder to students and support active supervision Support children when required e.g. hold hand, provide guidance Children self-assess abilities | I15: Major | J15: Possible | K15: High | N15: Clear rules about appropriate behaviour not to hang upside down from monkey bars or climb onto the top of the equipment
C16: Space net | D16: fall from height impact injury suspension injury challenging use collision with falling persons contact with exposed wire ropes | E16: Major | F16: Likely | G16: High | H16: Supervision Softfall maintained to required depth as required by manufacter (based on fall height) Re-enforce rules of climbing Limit number of climbers as per manufacturer's instruction Monitor landing surface for obstacles Highlight permitted climb height boundary with paint/marker to act as visual reminder to students and support active supervision Support children when required e.g. hold hand, provide guidance Children self-assess abilities | I16: Major | J16: Possible | K16: High | N16: Review of department's Space net Fact sheet < https://education.qld.gov.au/initiativesstrategies/Documents/fact-sheet-spacenet-playground-equipment.pdf >
C17: Bike/scooter track | D17: minor abrasions and bruises head injuries Cuts and lacerations Broken bones | E17: Moderate | F17: Likely | G17: High | H17: Age-appropriate use of scooters/balanced bikes on the track. Training wheels used when learning or rider requires assistance First Aid Kit nearby. Restrict and control numbers on track at one time through close supervision. Rotate children on track if needed. Supervision of use always required. Ensure adequate spacing between student on the track. Supervise speed and use a crossing point for children to cross over. Teach children how to use the crossing point and to look after the equipment. Children must wear a helmet and hi viz when using the bikes and scooters. Daily inspection of riding area and bikes/scooters - riding surface and maintenance of bikes/scooters | I17: Moderate | J17: Possible | K17: medium
C18: Nature/loose play/dynamic play hazardous materials temporary structures/instability height protruding sharps rough surfaces contaimination by substances hazardous environment | D18: Unstable structures falling objects fall from heights infection from corroded materials (nails etc) infection/contamination from substances (e.g. creosote, grease) Injury poor user behaviour/rough play unauthorised use bullying or fighting over material use | E18: Major | F18: Almost certain | G18: extreme | H18: All play areas are supervised by members of staff Activities are modelled by staff Set zones for free play School rules followed No rough play allowed Materials or constructions that introduce a >600mm fall from height risk or crush risk are not permitted e.g. pallet stacking, den building, group efforts to lift or roll heavy objects. temporary structures dissasembled at end of play/day Regular inspection and removal of damaged materials, noting waste is secured to render it inaccessible for future play | I18: Major | J18: Possible | K18: High | N18: Regular reminders about how to move safely around the playground and make safe choices A register loose play items is maintained to record their source to ensure they are not contaminated or are supplied with inherent issues e.g. structural weakness, obscured hazards etc
C19: Generic hazards and risks
C20: Playground equipment inappropriate for user | H20: Students are allowed to use equipment in designated zones Students are only allowed to play with/on equipment that are considered within the children’s capabilities Play can be stopped at any time if staff consider them to be unsafe or inappropriate. Discussion regarding safety will take place Activities are to be age appropriate and reflect the mix of ages within school as well as the special needs of individual students School behaviour policy applies on the playground. Staff record incidents in student first aid module or MyHRWHS where the workplace environment contributed to the incident. Ball games and equipment are not permitted in or on playground structures. | N20: Review of Making playgrounds safe fact sheet , https://education.qld.gov.au/initiativesstrategies/Documents/playground-factsheet.pdf > Staff to discuss any unusual uses of play equipment with leadership team Decisions affecting play to be discussed with students at school assemblies Playground rules are displayed in the playground Education and short timeout for those not adhering to the rules.
C21: Fall height | D21: injury soft fall not maintained to required depth | E21: Major | F21: Likely | G21: High | H21: Soft fall is appropriate material and maintained to min 300mm depth. Annual detailed inspections are carried out by a trained competent person. Play equipment undergoes operational inspection by a competent person. inspections are recorded, and necessary repairs are made. Appropriate limits are put in place for student numbers on equipment. Students are inducted in the safe use of play equipment. Use of play equipment is suitably supervised. Play equipment taken out of operation in bad weather where necessary. | I21: Major | J21: Possible | K21: High | N21: Identified staff trained in the routine and operational inspection of play equipment. All staff have been istructed in reporting hazards, incidents and maintenance issues Continuous monitoring of incidents.
C22: Soft fall or impact attenuating surfaces not maintained | D22: injury slip/trips/falls property damage | E22: Moderate | F22: Likely | G22: =VLOOKUP(E22&F22,[4]Lookup!$A$2:$B$26,2,FALSE) -> High | H22: Soft fall is installed that is at least 30mm deep in the general play area. Soft fall is maintained to a minimum depth of 200mm (or greater if required by manufacturer) & inspected on a regular basis (e.g. raked frequently). Depth of soft fall checked frequently to ensure surfacing has not displaced significantly, especially in areas under fall zones. Synthetic surfaces (and its installation) are maintained and meets Australian Standards and are subject to impact attenuation testing every 3 years. | I22: Moderate | J22: Possible | K22: =VLOOKUP(I22&J22,[4]Lookup!$A$2:$B$26,2,FALSE) -> Medium | N22: inspection schedule established and communicated to responsible staff
C23: Slips, trips and falls | D23: Loose materials wet surfaces raised or uneven surfaces waste material/vegetation Tree roots, garden edging Sharp edges, rocks Nature Play materials | E23: Moderate | F23: Likely | G23: High | H23: Check condition of surfaces prior to use of equipment that requires climbing, movement or rotation Evaluate weather conditions Barricade off hazard areas and inform children of current out of bounds areas. Report mainteneace Inspected for trip hazards such as damaged surfaces, loose equipment or parts, swelling caused by root growth, gumnuts etc. Surfaces such as decking, path and platforms are regularly inspected for build-up of algae, decay, lose nails/screws or visible damage. All drains are covered and adequately secured to prevent access Platforms, ramps and bridges have guardrails / barriers installed Play area equipment rails and barriers are vertical so that they cannot be used at footholds for climbing. Edges of rocks and hard lanscaping are chamfered | I23: Moderate | J23: Possible | K23: Medium | N23: Grass and loose surfaced play areas inspected following works that may have damaged the surface or removed loose surface materials. Daily assessment of risk assessment in response to changing weather. Storage is provided for portable, mobile equipment. Rubbish bins are placed nearby so students can dispose of waste correctly
C24: injury hazards Hard surfaces adjacent equipment pinch points entaglement crush points protrusions sharp edges rough surfaces momnetum | D24: Cuts Lacerations head injuries dental injuries broken bones soft tissue injuries objects in eye Collisions struck by falling, thrown object/person Exposure to sun/UV/hot surfaces pshychosocial - distress/anxiety due to delayed assistance or provision of first aid | E24: Major | F24: Likely | H24: Play areas inspected daily for materials that may cause injury (screws/nails, glass, metal, syringes etc.) Equipment inspected for loose fittings, splinters, sharp edges, protruding nails etc. Gates are locked during unaiuthorised play times/Held open by an adult to avoid trapped fingers and pinches. Bolts and latches are inaccessible to children (raised or padlocked). Fences are in good condition with no protrusions Play equipment designed to AS to minimise entrapement, crush, guillotining or puncture injuries. Shade sails or permanent structures installed and maintained Staff & students reminded to wear hats and apply sunscreen when outdoors. Equipment isolated from use where no other controls are viable during hot weather to prevent contact with hot surfaces. Student are regularly reminded about safe play. Play times supervised in line with this risk assessment. Restrict and control numbers on apparatus at one time through close supervision. Rotate children on apparatus if needed Staff reminded to be vigilant of pupils playing around them, especially where students are undertaking active movement or playing ball games. | I24: Major | J24: Possible | K24: High | N24: Staff (including TRS and casual/temporary) are instructed in the safe use of the play area and are advised of the age appropriateness for the students Staff are encouraged to take mobile phones with them when on yard duty
C25: equipment failure | D25: injury playground closure | E25: Moderate | F25: Likely | G25: High | H25: Play equipment is regularly inspected by a competent person, inspections are recorded, and necessary repairs are made according to the school's schedule of playground inspection and maintenance Comprehensive level 3 (annual) inspection from a certified inspector is conducted- identified maintenance is action promptly. Any equipment that is suspected to be damaged or unsafe is taken out of use and a thorough examination will be booked. Equipment not covered by annual inspections (e.g. portable equipment such as bikes, bats, sandpits, gross motor toys etc.) are regularly inspected by staff for damage or contamination (animal faeces etc.). Structures not covered by the annual inspection provider (e.g. storage sheds, playhouses, plant beds, garden edging etc.) are regularly inspected by staff for damage, and maintained where necessary. | I25: Moderate | J25: Possible | K25: Medium | N25: Each member of staff carries out a visual inspection whenever they are on duty to ensure obvious hazards are identified and promptly managed. Any damaged items are reported and cordoned off or removed as necessary. Incidents that occur at play are reviewed regularly, so that action can be taken if certain pieces of equipment result in a disproportionately high injury numbers. Instruction and training is provided for in house inspection and/or maintenance
C26: Inadequate supervision and instruction | D26: Injury poor user behaviour/rough play unauthorised use bullying or fighting over access/use | E26: Major | F26: Likely | G26: =VLOOKUP(E26&F26,[4]Lookup!$A$2:$B$26,2,FALSE) -> High | H26: Staff supervision of play. Based on the above risk assessment information supervision ratios of 1:XX and duty areas have been determined for each playground and are defined in the Example State School staff handbook Supervision ratios reviewed termly and following incidents or the introduction of new students. Playtime supervision ratios for Early Years are in line with the National Quality Framework. Play area has been designed to allow visualisation of students throughout the playground area, with visual barriers minimised as much as possible. Provide adequate supervision to prevent injuries by ensuring students use playground equipment properly and don’t engage in unsafe behaviour. Minimise number of children on playground to reasonable numbers appropriate to the playground. | I26: Moderate | J26: Possible | K26: =VLOOKUP(I26&J26,[4]Lookup!$A$2:$B$26,2,FALSE) -> Medium | N26: Play is supervised and supported by staff. All relief staff are inducted on playground supervision requirements Staff monitor and intervene if unacceptable play is identified. Required supervision areas- refer to staff handbook- playground supervision.
C27: Unauthorised access (outside hours access) | D27: injury damage to property | E27: Major | F27: Likely | G27: =VLOOKUP(E27&F27,[4]Lookup!$A$2:$B$26,2,FALSE) -> High | H27: Fencing and gates maintained Points of access onto the site for visitors minimised with clearly signed routes to Admin. Children are not to play in areas out of sight of staff. Areas of site identified as higher risk made “out of bounds”. School community advised of expectations for out of hours acccess. Signage for unauthorised 'use not permitted' and safe play instructions are displayed prominently and signs are easy to read. | I27: Major | J27: Possible | K27: =VLOOKUP(I27&J27,[4]Lookup!$A$2:$B$26,2,FALSE) -> High
C28: Lack of maintenance | D28: Injury equipment damage | E28: Moderate | F28: Likely | G28: =VLOOKUP(E28&F28,[4]Lookup!$A$2:$B$26,2,FALSE) -> High | H28: Equipment maintained according to maufacturer instructions and frequency. A schedule of inspection/checklist is available, used and records maintained. A process is established to monitor compliance with inspection schedule. | I28: Moderate | J28: Possible | K28: =VLOOKUP(I28&J28,[4]Lookup!$A$2:$B$26,2,FALSE) -> Medium | N28: Ensure all staff including temporary and casual know how to report hazards/maintenance Review incident records to ensure equipment remains fit for purpose
C29: Biological hazards- animal waste, bites and insects, nesting materials | D29: illness/injury zoonosis contact with wildlife/insects contact with feacal material | E29: Major | F29: Possible | G29: =VLOOKUP(E29&F29,[4]Lookup!$A$2:$B$26,2,FALSE) -> High | H29: A cleaning regime is in place to ensure equipment clean of any biological waste (including animal), Sandpits and soft fall have no visible waste and are raked daily Minimise the number of small spaces and holes where hands can be placed inside or wildlife couls access Supervising staff to inspect playground before each use where there is a known snake risk | I29: Moderate | J29: Possible | K29: =VLOOKUP(I29&J29,[4]Lookup!$A$2:$B$26,2,FALSE) -> Medium | N29: Staff know how to respond to snake fire ant and spider bites
C30: Access to first aid and emergency response | D30: delay in first aid or emergency services access exacerbation of injury/illness | E30: Major | F30: Possible | G30: =VLOOKUP(E30&F30,[4]Lookup!$A$2:$B$26,2,FALSE) -> High | H30: Staff with appropriate first aid training are available immediately. Staff have access to a full first aid kit, which is regularly checked to ensure the contents are in date. Staff undertaking playgrouns duty have a means of rapid communication with them e.g. phone, walkie-talkie Where students have specific medical requirements e.g. astham or epipen response, these are easily accessible while at play. Special attention is paid to students who have health conditions that can be exacerbated by play. Students have been instructed on how to assist staff in emergencies/required response e.g. runner to office, move away Where there is a known snake risk, first aid training and kit contents include snake bite response | I30: Moderate | J30: Possible | K30: =VLOOKUP(I30&J30,[4]Lookup!$A$2:$B$26,2,FALSE) -> Medium | N30: All staff supervising play are aware of first aid and emergency processes including best access points for emergency services and the processes used to direct them.
C32: Risk Assessment Team (who participated and who was consulted) | E32: Date assessed: | H32: Risk Approver
C33: Name | D33: Position title | H33: Name:
H34: Position:
H35: Signature:
H36: Date:
C41: Step 7: Monitor and review
C42: Date of review | D42: Reviewer title | E42: Are controls effective? | H42: Additional actions/controls proposed/added

Sheet Example- general
C1: HSW risk assessment template - Example
C2: Step 1 Establish the context
C3: School/ Workplace: | D3: ABC State School Wavell Heights | E3: Specific area/ space: | F3: Teachers staff room and classroom 123
C4: Situation/ Activity being assessed: | D4: Risks arising from teacher Jo Smith having to use a leg scooter due to foot injury | E4: Scope: | F4: Only applies to areas listed above, only required for next 6 weeks, scooter must be used at all times
B5: Step 2 Identify the hazards | C5: Step 2 identify the hazards | E5: Step 3 - Assess the inherent risk level (i.e. with no controls) | H5: Step 4 Control the risk | I5: Step 5 Assess the current (residual) risk level (with controls) | L5: Step 6 Evaluate the risk (accept or take further action to get risk to an acceptable level)
A6: # | B6: Hazard Group | C6: Describe the Hazard | D6: Describe risk that may arise (cause and effect) | E6: Consequence | F6: Likelihood | G6: Risk Level | H6: What will be done to eliminate or minimise the risk? | I6: Consequence | J6: Likelihood | K6: Risk Level | L6: Has the risk been controlled as far as reasonably practicable? Y/N | M6: Can the risk rating be improved by adding new controls? Y/N | N6: What additional controls or control clarification is required? | O6: Due date | P6: Are new controls adequate to change the risk rating? Y/N. If Y redo the risk ranking . | Q6: Consequence | R6: Likelihood | S6: Risk Rating | T6: Risk Owner
B7: Do not change this field | C7: Describe hazards for each step or aspect of the activity or situation | D7: Describe the event that could happen; why it could happen (i.e. the cause) and the main effect of the risk occurring (maximum reasonable outcome) | E7: Click on cell and select from drop down list | F7: Click on cell and select from drop down list | G7: These cells will populate automatically | H7: identify all current and possible controls that will be used (hierarchy of control type shown for example) | I7: Click on cell and select from drop down list | J7: Click on cell and select from drop down list | K7: These cells will populate automatically | L7: Insert Y or N | N7: If No in col M - Insert the additional controls or modification here, otherwise leave blank | O7: Insert date action to be completed | T7: Insert Risk owner
C8: Small step at the classroom door | D8: Risk of a trip or slip causing a strain or fall injury | E8: Moderate | F8: Likely | G8: =VLOOKUP(E8&F8,Lookup!$A$2:$B$26,2,FALSE) -> High | H8: Provide a small ramp over step (engineering) Colour step and install signs (administration) | I8: Moderate | J8: Unlikely | K8: =VLOOKUP(I8&J8,Lookup!$A$2:$B$26,2,FALSE) -> Medium | L8: Y
C9: Ramp incline to classroom is steep and has a tight corner | D9: Undue strain to person scooting up and potentially not able to get up | E9: Moderate | F9: Likely | G9: =VLOOKUP(E9&F9,Lookup!$A$2:$B$26,2,FALSE) -> High | H9: Provide third party support each time the ramp is used (elimination/substitution) | I9: Insignificant | J9: Rare | K9: =VLOOKUP(I9&J9,Lookup!$A$2:$B$26,2,FALSE) -> Low | L9: Y | N9: Note: redesign of ramp slope considered but is not a viable option for this short term risk
C10: Classroom very cluttered with heavy and large objects | D10: Access to all areas may be restricted or result in collisions with objects | E10: Minor | F10: Likely | G10: =VLOOKUP(E10&F10,Lookup!$A$2:$B$26,2,FALSE) -> Medium | H10: Declutter room and provide appropriate access ways (engineering/redesign) Temporarily move key items to one area of room so teacher only needs to go to one place (engineering/redesign) | I10: Minor | J10: Unlikely | K10: =VLOOKUP(I10&J10,Lookup!$A$2:$B$26,2,FALSE) -> Low | L10: Y
G11: =VLOOKUP(E11&F11,Lookup!$A$2:$B$26,2,FALSE) -> #N/A | K11: =VLOOKUP(I11&J11,Lookup!$A$2:$B$26,2,FALSE) -> #N/A
C13: Risk Assessment Team (who participated and who was consulted) | E13: Date assessed: | H13: Risk Approver
C14: Name | D14: Position title | H14: Name: Mr Approver
C15: Jo Smith | D15: Teacher | E15: 45473 | H15: Position: Head of Department
C16: John Abel | D16: Business Manager | E16: 45473 | H16: Signature:
C17: Kay Person | D17: HSA | E17: 45473 | H17: Date: 1/7/24
C20: Step 7: Monitor and review
C21: Date of review | D21: Reviewer title | E21: Are controls effective? | H21: Additional actions/controls proposed/added
C22: 15/7/24 | D22: Head of Department | E22: Yes normally but see additional action | H22: roster needed for third party support to ensure someone is always available to assist Jo Smith up the ramp - HSA to put in place by 18/7/24

Sheet Hazards and hazard groups
C1: HAZARD RISK INDEX
A2: # | B2: Hazard Group | C2: Hazard | D2: Generic risk description for hazard groups and hazard types
A3: 1 | B3: Biological | D3: There is a risk that interaction with biological hazards including allergens, animals, microbiological hazards or water borne disease and contamination may result in harm to department staff, students/children and others in the workplace. Includes risks from the following 5 hazard types:
A4: 1 | B4: Biological | C4: Allergens | D4: Risk of harm from a vast array of substances that may cause allergic reactions
A5: 2 | B5: Biological | C5: Animals/insects | D5: Includes harm from interaction with domesticated animals and livestock; wildlife, insects
A6: 3 | B6: Biological | C6: Food contamination | D6: Risk of food poisoning/disease from bacteria, viruses fungi or toxins due to poor food hygiene or handling practices
A7: 4 | B7: Biological | C7: Microbiological/ viral | D7: Risk of injury/illness or harm as a result of transmission of infectious diseases between humans and from animals and organisms: Includes human to human disease/infection from blood, bodily fluids, airborne transmission or biological waste exposure through first aid treatment, cleaning, personal care tasks and/or needlestick and Infectious diseases vector (animals and organisms) to human (Includes direct and indirect)
A8: 5 | B8: Biological | C8: Water borne disease and contamination | D8: Water born infectious disease or toxicity)
A9: 2 | B9: Buildings/structures | D9: There is a risk that activities/interactions/and integrity failures from or related to workplace buildings and structures, including fire or explosion, hot work and electrical interactions may result in harm to department staff, students/children and others in the workplace. Includes risks from the following 5 hazard types:
A10: 6 | B10: Buildings/structures | C10: Confined spaces | D10: Confined spaces as defined by WHS Regulation 2011 may include some types of excavations or trenches, drainage or sewerage pipes, and crawl spaces, silos, tanks, sheep dips. Risks of noise, asphyxiation or poisoning from gases, thermal stress, manual handling, entrapment, and slips, trips and falls
A11: 7 | B11: Buildings/structures | C11: Excavations | D11: Excavations from construction or interacting with excavations including tunnels, shafts and trenches includes risks arising from: - collapse or fall, water inrush or underground service damage due to excavation work.
A12: 8 | B12: Buildings/structures | C12: Fire or explosion | D12: Arising from activities or infrastructure failure - contributory factors include poor housekeeping , hazardous area poorly understood/managed, unintended release of gases or other fuels, lithium battery failure/run away, equipment failure, persons not able to be safely evacuated from a building in an emergency, hot work (ignition sources), inadequate fire maintenance program.
A13: 9 | B13: Buildings/structures | C13: Hot work (e.g. welding, grinding, etc.) | D13: Risk from hot work includes burns and fires caused by hot material or ignition from hot works such as grinding, welding, thermal or oxygen cutting or heating and other related heat-producing or spark-producing operations
A14: 10 | B14: Buildings/structures | C14: Structure integrity | D14: As a result of failure (including damage to) to the integrity of building, infrastructure and equipment includes failure due to design, construction, installation, maintenance, modifications or access Includes: buildings, infrastructure, playground equipment, shade-sails, goal posts, basketball hoops, post mounted winch signs
A15: 3 | B15: Third party management | D15: There is a risk of harm arising for poor management of third parties including the engagement, oversight, and interactions with contractors undertaking work on DoE controlled workplaces. Includes risks from the following 2 hazard types:
A16: 11 | B16: Third party management | C16: Contractor management | D16: Includes site specific risks that impact the contractor and/or the school community that need to be managed (outside of contractor's work responsibilities)
A17: 13 | B17: Third party management | C17: School-based business or enterprise | D17: Includes curriculum and P&C activities, fetes and working bees, third party hire or lease activities Note: this is primarily looking at specific hazards for these activities and other hazards groups that may arise would be considered as applicable in their own right
A18: 4 | B18: Environmental | D18: There is a risk that activities/interactions/exposure to natural events from or related to workplace environmental hazards including temperature, weather or work environment may result in harm to department staff, students/children and others in the workplace. Includes risks from the following 3 hazards:
A19: 14 | B19: Environmental | C19: Temperature | D19: Includes hypothermia, cold burns or frostbite from cold environments or materials including liquid nitrogen, CO2, cold-rooms, etc. and heat stress, burns or related illness from hot environments (includes children left in vehicles), materials or components including appliances, tools, food preparation, naked flames, heating mantles, hot liquids, boiling water
A20: 15 | B20: Environmental | C20: Weather and natural events | D20: There is a risk of harm from: severe weather conditions or natural events (storm, cyclone, storm tide, flood, lightning, hail heatwave, tsunami, cyclone, earthquake etc.); sunburn or long term eye and skin damage (including skin cancers) from sun (UV) exposure
A21: 16 | B21: Environmental | C21: Work Environment (e.g. poor visibility/lighting) | D21: Eyestrain, increased threat from concealed trespasser, or harm from collusion with objects due to insufficient lighting, glare or poor visibility in work areas and thoroughfare's and "Blind" corners
A22: 5 | B22: Human factors - Physical issues | D22: There is a risk that human factor hazards and behaviours including ergonomics, fitness for work, manual tasks, and sports and play result in harm to department staff, students/children and others in the workplace. Includes risks from the following 9 hazard types
A23: 17 | B23: Human Factors - Physical issues | C23: Ergonomics -workstation and work area design, setup and postures | D23: This includes musculoskeletal disorders/injuries from poor work practices due to work station and work area design and set up (equipment quality and features, layout etc.) and process and task design issues related to work space
A24: 18 | B24: Human Factors - Physical issues | C24: External camps or excursions, including associated travel | D24: Risks arising from hazards exposed to during excursions, camps and associated travel arising from unclear lines of responsibilities, poor supervision, lack of identification of hazards, inappropriate activities for age group or capability, volunteers and hire transport issues Note: this is primarily looking at specific hazards for these activities and other hazard groups that may arise would be considered as applicable in their own right
A25: 19 | B25: Human Factors - Physical issues | C25: Falls (from one level to another) | D25: Risks include falls from one level to another of a person or object and general working from heights. Fall may be off the ground (e.g. from a ladder), off ledges (e.g. retaining wall), into holes or excavations, or through openings (e.g. skylight on roof), open balconies and stairwells, also includes falling items such as trees, coconuts etc.
A26: 20 | B26: Human Factors - Physical issues | C26: Fitness for work | D26: Risks relating to performing required work including fatigue, lifestyle factors, substance abuse and pre-existing health conditions Note: Excludes psychosocial hazards and risks listed in Hazard Groups 6&7
A27: 21 | B27: Human Factors - Physical issues | C27: Hazardous manual tasks | D27: Hazardous manual tasks may involve one or more of the following: - repetitive or sustained force, high or sudden force, repetitive movement, lifting or carrying heavy objects or moving objects in award positions, sustained or awkward posture - exposure to vibration.
A28: 22 | B28: Human Factors - Physical issues | C28: Noise and prolonged loud speaking | D28: There is a risk of harm from: - exposure to excessive noise includes: instrumental music, mobile plant e.g. mowers, Blowers, whipper snippers etc; fixed equipment in workshops and ITD rooms; computer servers and PA systems - vocal strain, throat discomfort, pain, hoarseness or loss of voice in staff due to overuse of vocal chords (speaking to class)
A29: 23 | B29: Human Factors - Physical issues | C29: Slips and trips hazards | D29: There is a risk of harm from slips and trips and resulting falls caused by factors such as uneven/unstable ground, slippery surfaces, poor visibility poor lighting, unsuitable footwear, medical conditions, distractions, other people, speed, manual tasks, objects/obstacles and weather conditions, lack of situational awareness, lack of maintenance of paths and walkways, falls from playground equipment e.g. monkey bars - also includes collision with fixed objects (e.g. walking into pole, banging head when bending)
A30: 24 | B30: Human Factors - Physical issues | C30: Sport and play | D30: Risk of impact, puncture and musculoskeletal injuries from participation in contact sports, dance, cheerleading, gymnastics and general play. including risks from outside school boundaries and representative sports
A31: 25 | B31: Human Factors - Physical issues | C31: Water activities | D31: Includes risks of: - Drowning from water based recreation or learning activities (e.g. (swimming, diving, surfing, canoeing, boating, outdoor education or science activities). - Physical injuries from collision, diving etc
A32: 6 | B32: Human Factors - Psychosocial | D32: There is a risk that psychosocial hazards (that is hazards that arises from, or relates to, the design or management of work, a work environment, plant at a workplace, or workplace interactions and behaviours) and may cause psychological harm, whether or not the hazard may also cause physical harm). Includes risks from the following 6 hazard types:
A33: 26 | B33: Human Factors - Psychosocial | C33: Job demands, job clarity, control and lack of support | D33: Risks arising from sustained or intense levels of physical, mental or emotional demands, low demands/monotonous work, little or no control over work environment, work timing etc; inadequate emotional or practical support, inadequate tools and resources to undertake work; uncertainty around job requirements, responsibilities and roles
A34: 27 | B34: Human Factors - Psychosocial | C34: Poor workplace relationships | D34: Includes risks arising from poor relationships or conflict between workers, managers, supervisors, co- workers or others with whom workers are required to interact. Frequent or excessive disagreements, disparaging or rude comments, either from one person or multiple people.
A35: 28 | B35: Human Factors - Psychosocial | C35: Poor organisational change management | D35: Organisational change management that is poorly planned, communicated, supported, or managed.
A36: 29 | B36: Human Factors - Psychosocial | C36: Poor organisational justice and low rewards and recognition | D36: Includes: - Bias, a lack of procedural fairness (fair processes to reach decisions), informational fairness (keeping relevant people informed), or interpersonal fairness (treating people with dignity and respect). - Imbalance between workers’ effort and recognition or rewards, both formal and informal; absence of mechanisms for feedback and/or goal setting and inequitable or unmeaningful reward and recognition practices.
A37: 30 | B37: Human Factors - Psychosocial | C37: Remote and isolated work and potentially traumatic events | D37: Risk arising from: - Work that is isolated from the assistance of other persons because of location, time, or the nature of the work. Including work at locations where: • access to resources and communications is difficult and travel times are lengthy. • work where there are no or few other people around or where workers are required to live away from home for extended periods. - Exposure to fatalities or serious injuries, distressing information or violent incidents
A38: 31 | B38: Human Factors - Psychosocial | C38: Workplace systems and environment | D38: Including poor or inadequate systems and management; exposure to hazardous work environments that create a stress response.
A39: 7 | B39: Human factors - Violence and security | D39: There is a risk that human factor hazards and behaviours around aggression and violence result in harm to department staff, students/children and others in the workplace. Includes risks from the following
A40: 32 | B40: Human factors - Violence and security | C40: Security risks including from visitors and unauthorised activities | D40: This includes risks from deliberately lit fires, explosive devices or booby traps causing injury (e.g. rope strung across bicycle path, or thumb tack on chair); force used to take something of value from a person; unauthorised entry or trespass, including hostile persons or wilful disturbance causing harm (physical or distress); lack of awareness of visitors of local hazards or restrictions/ access requirements.
A41: 33 | B41: Human factors - Violence and security | C41: Violence including Occupational Violence and Aggression and Domestic and Family Violence, bullying and harassment including sexual harassment and gender-based harrassment | D41: Risks from a wide range of violence and harassment situations (including threats) including: - any incident where a person is abused, threatened, or assaulted at work or while they are carrying out work; - repeated and unreasonable behaviour directed towards a worker or group of workers that creates a risk to health and safety.. - harassment in relation to personal characteristics such as age, disability, race, sex, relationship status, family responsibilities, sexual orientation, gender identity, or intersex status. - sexual harassment - any unwelcome conduct of a sexual nature that is done either to offend, humiliate or intimidate another person, or where it is reasonable to expect the person might feel that way. - Gender-based harassment – behaviour that targets individuals based on gender or reinforces traditional gender norms, and which may contribute to a hostile or unsafe workplace culture.
A42: 8 | B42: Mobile plant and transportation | D42: There is a risk that operating, maintaining and interacting with mobile plant, vehicles and other transportation infrastructure results in harm to department staff, students/children and others and damage to infrastructure, plant and equipment in the workplace. Includes risks from the following 4 hazard types
A43: 34 | B43: Mobile plant and transportation | C43: Mobile plant | D43: Includes forklifts, telehandler, EWP used by DoE staff on site
A44: 35 | B44: Mobile plant and transportation | C44: Non-automotive transport (i.e. , e.g. boat, train, aeroplane, etc.) | D44: Risk may arise from accidents, collisions, sinking, mechanical failures and cause a range of physical harm and also motion sickness, stress, anxiety
A45: 36 | B45: Mobile plant and transportation | C45: Registrable plant and amusement devices | D45: Registrable plant (with Workplace Health & Safety Queensland) includes: • lifts, escalators and moving walkways, amusement devices (including inflatable devices with a platform height of 3 metres or more), boilers, pressure vessels, mobile cranes, etc. • Amusement device failure used during school events/fetes failing and causing injury to users and bystanders
A46: 37 | B46: Mobile plant and transportation | C46: Vehicle incident - including incidents with pedestrians/persons on site | D46: Risk from both: - vehicle incidents including collisions, roll overs, fires related to single vehicle, multiple vehicles, arising from fatigue, mechanical failure, speed animals Includes: scooters, motor bikes, bicycles, quad bikes, tractors, used by school officers; buses owned, hired or chartered by schools and other workplaces - vehicle incidents impacting pedestrians/non vehicle persons includes bus stops, set down and pick up zones, road crossings, vehicles entering school grounds intended or otherwise etc, movement of vehicles to construction sites on schools
A47: 9 | B47: Plant and equipment | D47: There is a risk that operating, maintaining and interacting with plant and equipment hazards including electrical appliances and infrastructure, energy releases (including pressure, gravity, falls from suspended loads), and sharp tools, result in harm to department staff, students/children and others and damage to infrastructure, plant and equipment in the workplace. Includes risks from the following 3 hazard types:
A48: 38 | B48: Plant and equipment | C48: Electrical including electrical infrastructure, appliances and equipment | D48: Electrical shock or burns from: - Misused or faulty appliances fittings or leads includes: - overheating of equipment servers, using faulty personal appliances at workplace - Electrical shock or burns from unintended contact with electrical equipment and infrastructure including switchboards, overhead or underground electrical services and general cabling and penetration of wires
A49: 39 | B49: Plant and equipment | C49: Energy releases (kinetic, pressure, hydraulic, pneumatic and gravity falls) from plant and equipment | D49: Risk from energy releases may include (but is not limited to): - Impact, entanglement or crush risks from moving parts, projectiles and crush/pinch points. - Projectiles and ejected objects (including from mowers) - Pressure equipment injuries (water blasters, pressurised cylinders - Explosive power tools - Includes drops from suspended loads
A50: 40 | B50: Plant and equipment | C50: Sharp (and other) tools or equipment parts resulting in cuts, lacerations or punctures (other than needle-stick injuries) | D50: Cuts, lacerations or punctures from objects and sharp materials (other than needle-stick injuries) example: • Knives for food preparation • Bladed tools for cutting or opening boxes • Bladed tools used in ITD (e.g. chisels, etc.) • Drills and other devices resulting in puncture wounds • Glass, nails (materials left where they can break or be stood on etc) • Star pickets and stakes
A51: 10 | B51: Substances | D51: There is a risk that transporting, storing, using, interacting with or being exposed to atmospheric and chemical/hazardous substances may result in harm to department staff, students/children and others in the workplace. Includes risks from the following 6 hazards:
B52: Substances | C52: Asbestos | D52: Risk from inhaling airborne asbestos
A53: 41 | B53: Substances | C53: Atmospheric contaminants e.g. (particulates, fumes, smoke) | D53: Exposure to particulates, fumes, vapour, gas and smoke - asphyxiation/poisoning from gases, lead fumes - Including exposure to hazardous dust or particulates from activities outside school (i.e. heavy metal containing dust from industry or mining)
A54: 42 | B54: Substances | C54: Radiation (excludes sun) | D54: Radiation burns/sickness or carcinogenic- ionising radiation (e.g. X-rays, radioactive material/sources. - Burns, eye or other tissue damage to staff, students and others due to non-ionising radiation (e.g. microwaves, laser
A55: 43 | B55: Substances | C55: Respirable silica | D55: Risk from inhaling respirable silica generated from stone, sand etc by high-energy mechanical processes including cutting, grinding and polishing
A56: 44 | B56: Substances | C56: Pyrotechnics | D56: Fire, explosion, physical impacts from pyrotechnics or other incendiary entertainment devices at schools and school events
A57: 45 | B57: Substances | C57: Storage and handling - Chemicals, Dangerous Goods and Hazardous Substances | D57: Methods of exposure may include inhalation, absorption, ingestion and injection arising from - Spills, splashes, accidental release, incompatible storage, bulk storage, inadequate storage facilities - Uncontrolled release of pressurised gases or liquids causing burns, fire explosion - Chemical spraying on buildings and grounds which may result in burns, poisoning, fire, explosion

Sheet Lookup
A1: Threat Lookup value | B1: RISK RATING
A2: CriticalRare | B2: Medium | C2: 5
A3: CriticalUnlikely | B3: High | C3: 10 | F3: Risk Rating
A4: CriticalPossible | B4: High | C4: 15 | F4: Consequence | G4: Likelihood
A5: CriticalLikely | B5: Extreme | C5: 20 | F5: Critical | G5: Almost certain
A6: CriticalAlmost Certain | B6: Extreme | C6: 25 | F6: Major | G6: Likely
A7: MajorRare | B7: Medium | C7: 4 | F7: Moderate | G7: Possible
A8: MajorUnlikely | B8: Medium | C8: 8 | F8: Minor | G8: Unlikely
A9: MajorPossible | B9: High | C9: 12 | F9: Insignificant | G9: Rare
A10: MajorLikely | B10: High | C10: 16
A11: MajorAlmost Certain | B11: Extreme | C11: 20 | L11: Risk Rating
A12: ModerateRare | B12: Low | C12: 3 | F12: Critical | G12: 5 | I12: Almost certain | J12: 5 | K12: =G12*J12 -> 25 | L12: EXTREME
A13: ModerateUnlikely | B13: Medium | C13: 6 | F13: Major | G13: 4 | I13: Likely | J13: 4 | K13: =G13*J13 -> 16 | L13: HIGH
A14: ModeratePossible | B14: Medium | C14: 9 | F14: Moderate | G14: 3 | I14: Possible | J14: 3 | K14: =G14*J14 -> 9
A15: ModerateLikely | B15: High | C15: 12 | F15: Minor | G15: 2 | I15: Unlikely | J15: 2 | K15: =G15*J15 -> 4
A16: ModerateAlmost Certain | B16: High | C16: 15 | F16: Insignificant | G16: 1 | I16: Rare | J16: 1 | K16: =G16*J16 -> 1
A17: MinorRare | B17: Low | C17: 2
A18: MinorUnlikely | B18: Low | C18: 4
A19: MinorPossible | B19: Medium | C19: 6 | F19: Y
A20: MinorLikely | B20: Medium | C20: 8 | F20: N
A21: MinorAlmost Certain | B21: Medium | C21: 10
A22: InsignificantRare | B22: Low | C22: 1
A23: InsignificantUnlikely | B23: Low | C23: 2
A24: InsignificantPossible | B24: Low | C24: 3
A25: InsignificantLikely | B25: Low | C25: 4
A26: InsignificantAlmost Certain | B26: Medium | C26: 5

Sheet Hazard Review & Checklist
B4: Hazard Types | D4: Agency of Injury | F4: Mechanism of Injury | H4: Hazard Categories | I4: Examples
B5: Atmospheric Contaminants | F5: 0.1 - Falls from Any Height
B6: Biological | D6: Biological Management | F6: 0.2 - Slips, Trips & Missteps | H6: Biological | I6: Biological hazards occurs due to working with people, animals or infectious plant material. Examples include blood or other bodily fluids, animal care, insect bites, bacteria or viruses
B7: Burns | F7: 1.1 - Colliding with Stationary Objects
B8: Chemical | D8: Chemicals Management | F8: 1.2 - Injuring Oneself with a Tool | H8: Chemical | I8: Chemicals, poisons, dusts
B9: Confined Spaces | F9: 2.1 - Struck by Objects or Persons by Accident (if violence code to 8.2)
B10: Electrical | F10: 2.2 - Bitten or Hit by Animals (if venomous code to 6.3) | H10: Electrical | I10: Electrical equipment
B11: Environment/ Physical hazard | D11: Indoor Working Environment | F11: 2.5 - Crushed by or Between Objects | H11: Physical | I11: slips, trips, falls, exposure to loud noises, working from heights, vibrations, and unguarded machinery, noise, radiation, light, vibration
B12: Ergonomics | D12: Outdoor Working Environmental | F12: 2.7 - Vibration | H12: Ergonomic | I12: Places strains on a worker’s body. Ergonomic hazards occur as a result of physical factors that can harm the musculoskeletal system. This type of hazard is not easily identified, examples of this hazard are poor lighting, repetitive motion, awkward movements, and poor posture
B13: Fire and Explosion | D13: Fire and Smoke | F13: 3 - Noise and Pressure
B14: Food Safety | F14: 4.1 - Muscular Stress from Moving Objects (e.g. lifting, carrying, pushing)
B15: Hot work | F15: 4.3 - Muscular Stress from Awkward Posture or Repetitive Movements
B16: Hazardous Building Materials | F16: 5.1 - Hot Objects
B17: Manual Handling | F17: 5.2 - Cold Objects
B18: Noise | F18: 5.3 - Environmental Heat or Cold
B19: Occupational Violence | F19: 5.5 - Non-ionising Radiation
B20: Off Site Activity/Home Visit | F20: 5.6 - Ionising Radiation
B21: Other | F21: 5.7 - Electricity
B22: Plant and Equipment (Static & mobile) | D22: Fixed Plant | F22: 5.8 - Low Oxygen Environment (includes drowning) | H22: Mechanical | I22: plant, equipment and items (and parts of them) that have the potential to cut, rip, tear, abrade, crush, penetrate, produce projectiles or cause sudden impact
B23: Psychological | D23: Psychological | F23: 6.1 - Short Term Contact with Harmful Substances | H23: Psychosocial
B24: Radiation | F24: 6.2 - Long Term Contact with Harmful Substances
B25: Security | F25: 6.3 - Poisonous Plants and Venomous Creatures | H25: Fire/explosion
B26: Sharps | F26: 7.1 - Fungi, Viruses & Bacteria and Parasites
B27: Slips, Trips and Falls | F27: 7.2 - Human Bodily Matter (e.g. urine or blood)
B28: Thermal | F28: 8.1 - Experiencing or Witnessing Mental Stress Events (e.g. traumatic events)
B29: Traffic Control | F29: 8.2 - Effects from Unacceptable Behaviour (e.g. bullying, harassment, workplace | I29: slips, trips,
B30: Vibration | F30: 8.3 - Effects from Work Requirements (e.g. role clarity, organisational factors,
B31: Camps and Excursion | F31: 9.2 - Vehicle Incident (including rollover)
B32: Working at Heights | H32: Gravitational
D34: Transport and Mobile Plant | H34: Working environment | I34: work spaces, surfaces - slips, trips,falls, lighting, temperature, noise
D35: Powered Equipment, Tools and Appliances | H35: Safety
D36: Non-Powered Handtools and Equipment | H36: Organisational
D37: Materials and Substances
D38: Personal Impairment

Sheet Map
D8: Hazard Category | E8: Hazard | F8: Risk Ranking Inherent | G8: Risk Ranking Residual
D9: =#REF! -> #REF! | E9: =#REF! -> #REF! | F9: =#REF! -> #REF! | G9: =#REF! -> #REF!
D10: =#REF! -> #REF! | E10: =#REF! -> #REF! | F10: =#REF! -> #REF! | G10: =#REF! -> #REF!
D11: =#REF! -> #REF! | E11: =#REF! -> #REF! | F11: =#REF! -> #REF! | G11: =#REF! -> #REF!
D12: =#REF! -> #REF! | E12: =#REF! -> #REF! | F12: =#REF! -> #REF! | G12: =#REF! -> #REF!
D13: =#REF! -> #REF! | E13: =#REF! -> #REF! | F13: =#REF! -> #REF! | G13: =#REF! -> #REF!
D14: =#REF! -> #REF! | E14: =#REF! -> #REF! | F14: =#REF! -> #REF! | G14: =#REF! -> #REF!
D15: =#REF! -> #REF! | E15: =#REF! -> #REF! | F15: =#REF! -> #REF! | G15: =#REF! -> #REF!
D16: =#REF! -> #REF! | E16: =#REF! -> #REF! | F16: =#REF! -> #REF! | G16: =#REF! -> #REF!
D17: =#REF! -> #REF! | E17: =#REF! -> #REF! | F17: =#REF! -> #REF! | G17: =#REF! -> #REF!
D18: =#REF! -> #REF! | E18: =#REF! -> #REF! | F18: =#REF! -> #REF! | G18: =#REF! -> #REF!
D19: =#REF! -> #REF! | E19: =#REF! -> #REF! | F19: =#REF! -> #REF! | G19: =#REF! -> #REF!
D20: =#REF! -> #REF! | E20: =#REF! -> #REF! | F20: =#REF! -> #REF! | G20: =#REF! -> #REF! | L20: Column Labels
D21: =#REF! -> #REF! | E21: =#REF! -> #REF! | F21: =#REF! -> #REF! | G21: =#REF! -> #REF! | L21: Arson | M21: Asbestos | N21: Contractors - major | O21: Disaster event | P21: External camps or excursions, including associated travel | Q21: Fire | R21: Fireworks | S21: Hazardous dust or particulates | T21: Hazardous manual tasks | U21: Hot work (e.g. welding, grinding, etc.) - burns | V21: Impact into fixed or stationary object | W21: Impairment due to fatigue or mental wellbeing | X21: Inadequate lighting | Y21: Ionising radiation | Z21: Malicious device (including weapons such as firearms) | AA21: Other transport vehicles (i.e. non-automotive, e.g. boat, train, aeroplane, etc.) related accidents | AB21: Other; including nuisance dust | AC21: Psychosocial hazards and factors - injury from work-related stress due to exposure to negative workplace relationships | AD21: Psychosocial hazards and factors - injury from work-related stress other than negative workplace relationships | AE21: Registrable plant (e.g. lifts, escalators, moving walkways) | AF21: Respirable silica | AG21: Robbery | AH21: Rotating or moving parts - hair or clothing entanglement | AI21: School-based business or enterprise | AJ21: Severe weather event | AK21: Slips, trips or falls | AL21: Struck by projectiles and ejected items (including struck by foreign objects in the eye) | AM21: Structural failure - buildings or infrastructure | AN21: Structural failure - other | AO21: Unauthorised person with intent | AP21: Undertaking high risk work | AQ21: Visitors - general | AR21: Vocal strain (due to prolonged loud speaking) | AS21: Water bodies | AT21: Working without supervision, alone or in isolation. | AU21: Insect/spiders | AV21: Snakes | AW21: Dangerous wildlife | AX21: Birds | AY21: Food-borne illness | AZ21: Infectious disease - blood or bodily fluid transmission | BA21: Infectious disease - human to human | BB21: Infectious disease (vector and animal borne) | BC21: Infectious disease (water, aerosol, or soil-borne (excluding zoonoses)) | BD21: Biosecurity | BE21: Poor water quality - contact | BF21: Poor water quality - drinking | BG21: #REF! | BH21: Confined spaces | BI21: Contractors - minor | BJ21: Contractors - other service providers | BK21: Excavations, trenching and penetrations (DOES OVERLAP WITH FALLS AND CONFINED SPACES | BL21: Underground services (non-electrical) | BM21: Gas/dust fire/explosion | BN21: Fall from heights | BO21: Travel accommodation | BP21: Sport, playground equipment and general play | BQ21: Water bodies - recreational use | BR21: Cold | BS21: Heat | BT21: UV exposure from the sun | BU21: Workstation and postures | BV21: Impairment due to drugs (prescribed or illicit, including alcohol). | BW21: Pre-existing health conditions | BX21: Bombing | BY21: Adverse behavioural-based interaction with staff by student | BZ21: Domestic and family violence | CA21: Violence by staff or others (e.g. parents/guardians, contractors) against staff or others | CB21: Explosive powered tools | CC21: Lifting work (i.e. cranes, forklifts) and suspended loads | CD21: Electric shock - appliances | CE21: Electric shock - electrical work | CF21: Electric shock - transmission services | CG21: Electric shock - welding | CH21: Welding flash | CI21: Moving parts of plant and equipment | CJ21: Pinch, crush or shear points in plant or equipment | CK21: Sharp tools or equipment parts resulting in cuts, lacerations or punctures (other than needle-stick injuries) | CL21: Noise | CM21: Hydraulic/pneumatic energy | CN21: Spring or tension energy | CO21: UV radiation (excludes sun) | CP21: Amusement devices (note not all are registered plant however controls relevant for both) | CQ21: Motor vehicle accidents involving pedestrians | CR21: Motor vehicle incident (excluding pedestrians) | CS21: Airborne contaminants | CT21: Fire/explosion - Dangerous Goods and Hazardous Substances | CU21: Storage and handling - Dangerous Goods and Hazardous Substances | CV21: 0 | CW21: Allergens | CX21: Grand Total
D22: =#REF! -> #REF! | E22: =#REF! -> #REF! | F22: =#REF! -> #REF! | G22: =#REF! -> #REF!
D23: =#REF! -> #REF! | E23: =#REF! -> #REF! | F23: =#REF! -> #REF! | G23: =#REF! -> #REF!
D24: =#REF! -> #REF! | E24: =#REF! -> #REF! | F24: =#REF! -> #REF! | G24: =#REF! -> #REF!
D25: =#REF! -> #REF! | E25: =#REF! -> #REF! | F25: =#REF! -> #REF! | G25: =#REF! -> #REF!
D26: =#REF! -> #REF! | E26: =#REF! -> #REF! | F26: =#REF! -> #REF! | G26: =#REF! -> #REF!
D27: =#REF! -> #REF! | E27: =#REF! -> #REF! | F27: =#REF! -> #REF! | G27: =#REF! -> #REF!
D28: =#REF! -> #REF! | E28: =#REF! -> #REF! | F28: =#REF! -> #REF! | G28: =#REF! -> #REF!
D29: =#REF! -> #REF! | E29: =#REF! -> #REF! | F29: =#REF! -> #REF! | G29: =#REF! -> #REF!
D30: =#REF! -> #REF! | E30: =#REF! -> #REF! | F30: =#REF! -> #REF! | G30: =#REF! -> #REF!
D31: =#REF! -> #REF! | E31: =#REF! -> #REF! | F31: =#REF! -> #REF! | G31: =#REF! -> #REF!
D32: =#REF! -> #REF! | E32: =#REF! -> #REF! | F32: =#REF! -> #REF! | G32: =#REF! -> #REF!
D33: =#REF! -> #REF! | E33: =#REF! -> #REF! | F33: =#REF! -> #REF! | G33: =#REF! -> #REF!
... D130: =#REF! -> #REF! | E130: =#REF! -> #REF! | F130: =#REF! -> #REF! | G130: =#REF! -> #REF!
F133: Inherent Risk | G133: Residual Risk
E134: Extreme | F134: =COUNTIF(F$9:F$130, "Extreme") -> 0 | G134: =COUNTIF(G$9:G$130, "Extreme") -> 0
E135: High | F135: =COUNTIF(F$9:F$130, "High") -> 0 | G135: =COUNTIF(G$9:G$130, "High") -> 0
E136: Medium | F136: =COUNTIF(F$9:F$130, "Medium") -> 0 | G136: =COUNTIF(G$9:G$130, "Medium") -> 0
E137: Low | F137: =COUNTIF(F$9:F$130, "Low") -> 0 | G137: =COUNTIF(G$9:G$130, "Low") -> 0
G141: =180/120 -> 1.5

Sheet Version Control
A1: Version | B1: Section Amended | C1: Amendment | D1: Date Created | E1: Author
A2: DRAFT | B2: n/a | C2: Initial Draft | D2: 2 Oct 2019

Sheet Information
B2: Creating a School Risk Register using the DoE Risk Register
B4: 1. Make a copy of the DoE Risk Register and use this as your working document, save it with an appropriate filename.
B5: 2. Enter the date of your review, who participated, and when the next review should be completed (usually this is biannually, or following a significant HSW incident - for more information, refer to the DoE WHS Hazard Identification Risk Assessment and Control Procedure)
B6: 3. Review the risk register, and determine if the hazard (Columns B & C) is relevant to your workplace.
B7: 4. If the hazard is relevant, then:
C8: * review which controls already listed are being used effectively at your workplace
C9: * review and update the consequence and likelihood of the residual risk
C10: * consider which additional controls should be put in place to help manage the risk (but which are not in place or are not effective)
B11: 5. If the hazard is not relevant or not applicable to your school, then:
C12: * change the "Hazard Category" (Column A) to "Reviewed - Not applicable"
B14: Definitions:
B15: Inherent Risk: the risk associated with that hazard in your workplace BEFORE any controls are applied
B16: Residual Risk: the risk associated with that hazard in your workplace AFTER the controls are applied
B18: SFAIRP: So Far As Is Reasonably Practicable
B70: 4. Copy and paste the "Suggested Department Controls" into the "Controls Implemented at the Workplace".
B97: 5. Delete, modify or add to the "Controls Implemented at the Workplace" to reflect your current risk controls.
C98: · When you select a cell and start typing, you may find that you overwrite the contents of the entire cell. In order to edit the contents of a cell you can either double click on the cell or select it and press F2.
C99: · If you press 'Enter' while working within a cell you will move to the next cell. To create an additional row within in a cell, press and hold the 'Alt' key and then press 'Enter'.
B100: 6. Once the "Controls Implemented at the Workplace" have been updated, assess the "Residual Risk" (the risk that remains following the implementation of control methods) of the hazard (the risk that remains following the implementation of controls).
B101: 7. List any controls measures that you plan to implement in the future to the "Additional Controls To Be Implemented" column
C102: · If additional risk controls are required the person responsible, a proposed implementation date and relevant comments should be added under the applicable headings.
B103: 8. Continue to review each hazard entry until the register is completed.
B104: 9. If additional hazards are present in the workplace that are not listed in the pre filled template.
C105: · Left click on the row number of a hazard entry to select the entire row (see below).
C106: · Select copy and then paste in the new row where you would like it in the register.
C107: · Modify the details of the new entry as required to reflect the conditions of the workplace.
C134: If you require further assistance, please contact the OHS Advisory Service on 1300 074 715. | D134: Last Updated: 26 June 2018
